BEGIN:VCALENDAR
VERSION:2.0
PRODID:-//Moon Gate Guest House - ECPv6.15.20//NONSGML v1.0//EN
CALSCALE:GREGORIAN
METHOD:PUBLISH
X-WR-CALNAME:Moon Gate Guest House
X-ORIGINAL-URL:https://moongateguesthouse.ca
X-WR-CALDESC:Events for Moon Gate Guest House
REFRESH-INTERVAL;VALUE=DURATION:PT1H
X-Robots-Tag:noindex
X-PUBLISHED-TTL:PT1H
BEGIN:VTIMEZONE
TZID:UTC
BEGIN:STANDARD
TZOFFSETFROM:+0000
TZOFFSETTO:+0000
TZNAME:UTC
DTSTART:20230101T000000
END:STANDARD
END:VTIMEZONE
BEGIN:VEVENT
DTSTART;TZID=UTC:20240627T160000
DTEND;TZID=UTC:20240628T190000
DTSTAMP:20260424T213822
CREATED:20240201T174749Z
LAST-MODIFIED:20240513T125105Z
UID:19454-1719504000-1719601200@moongateguesthouse.ca
SUMMARY:Paddle\, Plants & Pizza
DESCRIPTION:Celebrate the beginning of Summer…on Water\nHave you tried stand up paddle (SUP) boarding yet? Whether you’re a seasoned paddler or not\, this experience on the Whitemouth River will be a memorable one. \nThis is what happens when two Metis businesses collaborate. \nItinerary: \nThursday\, June 27 \n4pm Arrive at Moon Gate and get settled in. Explore the land\, play with our dogs Pedro and Ska\, visit the chickens\, take a river walk\, read\, relax\, watch the sunset (9:40pm) then join us by the fire for star gazing. \nFriday\, June 28 \n9:30am-12pm For the early birds\, watch the sunrise at 5:19am\, have breakfast then join our guide\, Lesley Gaudry of Nature’s Edge Tourism for some SUP on the Whitemouth River. Lesley has been a long time friend of Moon Gate. She aims to provide you with memorable\, outdoor\, guided experiences. Watch for birds and other wildlife. \n12-2pm Break for lunch that you brought or head over to Spicy Radish Café as a group and enjoy their patio. Everything you order here is top notch. Pack up and check out your bags before you head out for lunch. They can be stowed away in your car or in the guest house. \n2-3:30pm Join Jenny for a plant walk and learn to identify common “weeds” used for tea or food. After a short exercise to connect you with the land\, with baskets and your journal in hand\, you will learn how to harvest plants sustainably and with respect for the Earth.  Whatever you harvest\, you get to take home or add it to your pizza later on. Enjoy some free time before dinner. \n5-7pm It’s time for you know what…Pizza! All our pizza is hand made\, mostly organic\, locally sourced ingredients\, and cooked on fire. Choose your favourite\, then just before serving you can add the greens that you just foraged. Yum! \nPizza at Moon Gate Pizza Night. \nAfter dinner you can head home feeling nourished by the Earth\, Air\, Fire and Water. \nDates: June 27-28\, 2024 \nIncludes: One night in the guest house\, self catered breakfast\, wild tea\, snack\, paddle boarding with a guide\, instruction and equipment use\, foraging with a guide\, instruction and use of baskets\, 11″ pizza and lots of fun\, memories and epic pictures. \nPrivate room: $299 per person \nShared room: $249 per person \nA list of items to bring and what to wear on the water will be sent upon registration. We can’t wait to share our stories with you! \nSpace is limited to 6 so jump on this “paddle board” soon! Click this link\, pick your room\, enter June 27 date\, then the private or shared option. Voila! Call 431-276-2765 if you need assistance.
URL:https://moongateguesthouse.ca/event/paddle-plants-pizza/
LOCATION:Moon Gate Guest House\, 61105 PR 406\, Box 136\, Whitemouth\, Manitoba\, R0E 2G0\, Canada
ATTACH;FMTTYPE=image/jpeg:https://moongateguesthouse.ca/wp-content/uploads/2024/02/421692130_1167079951099165_5685804271964138851_n-e1715171762455.jpg
ORGANIZER;CN="Moon Gate Guest House":MAILTO:moongateguesthouse@gmail.com
END:VEVENT
END:VCALENDAR